Package: HiContacts Version: 1.10.0 Command: /Library/Frameworks/R.framework/Resources/bin/R CMD INSTALL HiContacts StartedAt: 2025-10-13 16:37:18 -0400 (Mon, 13 Oct 2025) EndedAt: 2025-10-13 16:37:53 -0400 (Mon, 13 Oct 2025) EllapsedTime: 35.2 seconds RetCode: 0 Status: OK