Package: HiContacts Version: 1.10.0 Command: /Library/Frameworks/R.framework/Resources/bin/R CMD check --install=check:HiContacts.install-out.txt --library=/Library/Frameworks/R.framework/Resources/library --no-vignettes --timings HiContacts_1.10.0.tar.gz StartedAt: 2025-10-15 00:23:51 -0400 (Wed, 15 Oct 2025) EndedAt: 2025-10-15 00:35:23 -0400 (Wed, 15 Oct 2025) EllapsedTime: 691.8 seconds RetCode: 0 Status: OK CheckDir: HiContacts.Rcheck Warnings: 0