Package: HiCDOC Version: 1.10.3 Command: /home/biocbuild/bbs-3.21-bioc/R/bin/R CMD INSTALL HiCDOC StartedAt: 2025-10-15 15:31:29 -0400 (Wed, 15 Oct 2025) EndedAt: 2025-10-15 15:32:12 -0400 (Wed, 15 Oct 2025) EllapsedTime: 42.9 seconds RetCode: 0 Status: OK