Package: HiCDOC Version: 1.10.3 Command: /home/biocbuild/bbs-3.21-bioc/R/bin/R CMD build --keep-empty-dirs --no-resave-data HiCDOC StartedAt: 2025-10-15 17:57:56 -0400 (Wed, 15 Oct 2025) EndedAt: 2025-10-15 18:00:34 -0400 (Wed, 15 Oct 2025) EllapsedTime: 158.2 seconds RetCode: 0 Status: OK PackageFile: HiCDOC_1.10.3.tar.gz PackageFileSize: 3.431 MiB