Package: HiCBricks Version: 1.26.0 Command: /Library/Frameworks/R.framework/Resources/bin/R CMD check --install=check:HiCBricks.install-out.txt --library=/Library/Frameworks/R.framework/Resources/library --no-vignettes --timings HiCBricks_1.26.0.tar.gz StartedAt: 2025-10-14 05:01:36 -0400 (Tue, 14 Oct 2025) EndedAt: 2025-10-14 05:08:11 -0400 (Tue, 14 Oct 2025) EllapsedTime: 394.8 seconds RetCode: 0 Status: OK CheckDir: HiCBricks.Rcheck Warnings: 0