Package: HiCBricks Version: 1.26.0 Command: rm -rf HiCBricks.buildbin-libdir && mkdir HiCBricks.buildbin-libdir && /Users/biocbuild/BBS/utils/build-universal.sh HiCBricks_1.26.0.tar.gz /Library/Frameworks/R.framework/Resources/bin/R HiCBricks.buildbin-libdir StartedAt: 2025-10-14 13:42:30 -0400 (Tue, 14 Oct 2025) EndedAt: 2025-10-14 13:43:44 -0400 (Tue, 14 Oct 2025) EllapsedTime: 73.9 seconds RetCode: 0 Status: OK PackageFile: HiCBricks_1.26.0.tgz PackageFileSize: 9.094 MiB