Package: Herper Version: 1.18.0 Command: chmod a+r Herper -R && E:\biocbuild\bbs-3.21-bioc\R\bin\R.exe CMD build --keep-empty-dirs --no-resave-data Herper StartedAt: 2025-08-14 19:39:55 -0400 (Thu, 14 Aug 2025) EndedAt: 2025-08-14 19:40:16 -0400 (Thu, 14 Aug 2025) EllapsedTime: 21.1 seconds RetCode: 0 Status: OK PackageFile: Herper_1.18.0.tar.gz PackageFileSize: 407.9 KiB