Package: Herper Version: 1.18.0 Command: /home/biocbuild/bbs-3.21-bioc/R/bin/R CMD INSTALL Herper StartedAt: 2025-10-15 15:10:33 -0400 (Wed, 15 Oct 2025) EndedAt: 2025-10-15 15:10:48 -0400 (Wed, 15 Oct 2025) EllapsedTime: 15.1 seconds RetCode: 0 Status: OK