Package: Herper Version: 1.18.0 Command: /home/biocbuild/bbs-3.21-bioc/R/bin/R CMD check --install=check:Herper.install-out.txt --library=/home/biocbuild/bbs-3.21-bioc/R/site-library --timings Herper_1.18.0.tar.gz StartedAt: 2025-10-16 00:01:21 -0400 (Thu, 16 Oct 2025) EndedAt: 2025-10-16 00:03:15 -0400 (Thu, 16 Oct 2025) EllapsedTime: 114.1 seconds RetCode: 1 Status: ERROR CheckDir: Herper.Rcheck Warnings: NA