Package: Herper Version: 1.18.0 Command: /Library/Frameworks/R.framework/Resources/bin/R CMD check --install=check:Herper.install-out.txt --library=/Library/Frameworks/R.framework/Resources/library --no-vignettes --timings Herper_1.18.0.tar.gz StartedAt: 2025-10-14 05:00:33 -0400 (Tue, 14 Oct 2025) EndedAt: 2025-10-14 05:03:17 -0400 (Tue, 14 Oct 2025) EllapsedTime: 164.0 seconds RetCode: 0 Status: OK CheckDir: Herper.Rcheck Warnings: 0