Package: Herper Version: 1.18.0 Command: /home/biocbuild/R/R/bin/R CMD check --install=check:Herper.install-out.txt --library=/home/biocbuild/R/R/site-library --no-vignettes --timings Herper_1.18.0.tar.gz StartedAt: 2025-10-14 10:05:56 -0000 (Tue, 14 Oct 2025) EndedAt: 2025-10-14 10:09:20 -0000 (Tue, 14 Oct 2025) EllapsedTime: 204.1 seconds RetCode: 0 Status: OK CheckDir: Herper.Rcheck Warnings: 0