Package: Herper Version: 1.18.0 Command: /home/biocbuild/R/R/bin/R CMD build --keep-empty-dirs --no-resave-data Herper StartedAt: 2025-10-14 01:36:30 -0000 (Tue, 14 Oct 2025) EndedAt: 2025-10-14 01:36:43 -0000 (Tue, 14 Oct 2025) EllapsedTime: 13.0 seconds RetCode: 0 Status: OK PackageFile: Herper_1.18.0.tar.gz PackageFileSize: 433.8 KiB