Package: Herper Version: 1.18.0 Command: /Library/Frameworks/R.framework/Resources/bin/R CMD check --install=check:Herper.install-out.txt --library=/Library/Frameworks/R.framework/Resources/library --no-vignettes --timings Herper_1.18.0.tar.gz StartedAt: 2025-04-21 19:47:50 -0400 (Mon, 21 Apr 2025) EndedAt: 2025-04-21 19:48:12 -0400 (Mon, 21 Apr 2025) EllapsedTime: 22.2 seconds RetCode: 1 Status: ERROR CheckDir: Herper.Rcheck Warnings: NA