Package: Herper Version: 1.18.0 Command: /Library/Frameworks/R.framework/Resources/bin/R CMD build --keep-empty-dirs --no-resave-data Herper StartedAt: 2025-04-21 16:36:31 -0400 (Mon, 21 Apr 2025) EndedAt: 2025-04-21 16:36:36 -0400 (Mon, 21 Apr 2025) EllapsedTime: 5.1 seconds RetCode: 0 Status: OK PackageFile: Herper_1.18.0.tar.gz PackageFileSize: 407.8 KiB