Package: Herper Version: 1.18.0 Command: rm -rf Herper.buildbin-libdir && mkdir Herper.buildbin-libdir && /Users/biocbuild/BBS/utils/build-universal.sh Herper_1.18.0.tar.gz /Library/Frameworks/R.framework/Resources/bin/R Herper.buildbin-libdir StartedAt: 2025-04-21 22:38:08 -0400 (Mon, 21 Apr 2025) EndedAt: 2025-04-21 22:38:12 -0400 (Mon, 21 Apr 2025) EllapsedTime: 3.1 seconds RetCode: 0 Status: OK PackageFile: Herper_1.18.0.tgz PackageFileSize: 461 KiB