Package: Heatplus Version: 3.16.0 Command: E:\biocbuild\bbs-3.21-bioc\R\bin\R.exe CMD check --no-multiarch --install=check:Heatplus.install-out.txt --library=E:\biocbuild\bbs-3.21-bioc\R\library --no-vignettes --timings Heatplus_3.16.0.tar.gz StartedAt: 2025-08-15 03:01:00 -0400 (Fri, 15 Aug 2025) EndedAt: 2025-08-15 03:01:35 -0400 (Fri, 15 Aug 2025) EllapsedTime: 35.0 seconds RetCode: 0 Status: OK CheckDir: Heatplus.Rcheck Warnings: 0