Package: Heatplus Version: 3.16.0 Command: /home/biocbuild/bbs-3.21-bioc/R/bin/R CMD INSTALL Heatplus StartedAt: 2025-10-15 15:04:04 -0400 (Wed, 15 Oct 2025) EndedAt: 2025-10-15 15:04:13 -0400 (Wed, 15 Oct 2025) EllapsedTime: 9.2 seconds RetCode: 0 Status: OK