Package: Heatplus Version: 3.16.0 Command: /home/biocbuild/bbs-3.21-bioc/R/bin/R CMD build --keep-empty-dirs --no-resave-data Heatplus StartedAt: 2025-10-15 17:56:29 -0400 (Wed, 15 Oct 2025) EndedAt: 2025-10-15 17:56:45 -0400 (Wed, 15 Oct 2025) EllapsedTime: 15.1 seconds RetCode: 0 Status: OK PackageFile: Heatplus_3.16.0.tar.gz PackageFileSize: 1.182 MiB