Package: Harshlight Version: 1.80.0 Command: E:\biocbuild\bbs-3.21-bioc\R\bin\R.exe CMD INSTALL Harshlight StartedAt: 2025-08-14 15:53:02 -0400 (Thu, 14 Aug 2025) EndedAt: 2025-08-14 15:53:04 -0400 (Thu, 14 Aug 2025) EllapsedTime: 2.0 seconds RetCode: 1 Status: ERROR