Package: Harshlight Version: 1.80.0 Command: rm -rf Harshlight.buildbin-libdir && mkdir Harshlight.buildbin-libdir && /Users/biocbuild/BBS/utils/build-universal.sh Harshlight_1.80.0.tar.gz /Library/Frameworks/R.framework/Resources/bin/R Harshlight.buildbin-libdir StartedAt: 2025-04-22 00:49:17 -0400 (Tue, 22 Apr 2025) EndedAt: 2025-04-22 00:49:38 -0400 (Tue, 22 Apr 2025) EllapsedTime: 20.7 seconds RetCode: 0 Status: OK PackageFile: Harshlight_1.80.0.tgz PackageFileSize: 307.3 KiB