Package: Harman Version: 1.36.0 Command: E:\biocbuild\bbs-3.21-bioc\R\bin\R.exe CMD check --no-multiarch --install=check:Harman.install-out.txt --library=E:\biocbuild\bbs-3.21-bioc\R\library --no-vignettes --timings Harman_1.36.0.tar.gz StartedAt: 2025-08-15 03:00:04 -0400 (Fri, 15 Aug 2025) EndedAt: 2025-08-15 03:01:51 -0400 (Fri, 15 Aug 2025) EllapsedTime: 106.7 seconds RetCode: 0 Status: WARNINGS CheckDir: Harman.Rcheck Warnings: 1