Package: Harman Version: 1.36.0 Command: /home/biocbuild/bbs-3.21-bioc/R/bin/R CMD INSTALL Harman StartedAt: 2025-09-28 15:19:32 -0400 (Sun, 28 Sep 2025) EndedAt: 2025-09-28 15:19:58 -0400 (Sun, 28 Sep 2025) EllapsedTime: 26.0 seconds RetCode: 0 Status: OK