Package: Harman Version: 1.36.0 Command: /home/biocbuild/bbs-3.21-bioc/R/bin/R CMD check --install=check:Harman.install-out.txt --library=/home/biocbuild/bbs-3.21-bioc/R/site-library --timings Harman_1.36.0.tar.gz StartedAt: 2025-10-01 23:57:47 -0400 (Wed, 01 Oct 2025) EndedAt: 2025-10-02 00:01:27 -0400 (Thu, 02 Oct 2025) EllapsedTime: 220.3 seconds RetCode: 0 Status: OK CheckDir: Harman.Rcheck Warnings: 0