Package: Harman Version: 1.36.0 Command: rm -rf Harman.buildbin-libdir && mkdir Harman.buildbin-libdir && /Users/biocbuild/BBS/utils/build-universal.sh Harman_1.36.0.tar.gz /Library/Frameworks/R.framework/Resources/bin/R Harman.buildbin-libdir StartedAt: 2025-10-14 13:41:10 -0400 (Tue, 14 Oct 2025) EndedAt: 2025-10-14 13:41:48 -0400 (Tue, 14 Oct 2025) EllapsedTime: 37.9 seconds RetCode: 0 Status: OK PackageFile: Harman_1.36.0.tgz PackageFileSize: 2.182 MiB