Package: Harman Version: 1.36.0 Command: /home/biocbuild/R/R/bin/R CMD check --install=check:Harman.install-out.txt --library=/home/biocbuild/R/R/site-library --no-vignettes --timings Harman_1.36.0.tar.gz StartedAt: 2025-09-30 10:29:04 -0000 (Tue, 30 Sep 2025) EndedAt: 2025-09-30 10:41:05 -0000 (Tue, 30 Sep 2025) EllapsedTime: 720.5 seconds RetCode: 0 Status: WARNINGS CheckDir: Harman.Rcheck Warnings: 1