Package: Harman Version: 1.36.0 Command: /home/biocbuild/R/R/bin/R CMD build --keep-empty-dirs --no-resave-data Harman StartedAt: 2025-09-30 02:12:12 -0000 (Tue, 30 Sep 2025) EndedAt: 2025-09-30 02:15:41 -0000 (Tue, 30 Sep 2025) EllapsedTime: 209.1 seconds RetCode: 0 Status: OK PackageFile: Harman_1.36.0.tar.gz PackageFileSize: 1.971 MiB