Package: Harman Version: 1.36.0 Command: /Library/Frameworks/R.framework/Resources/bin/R CMD INSTALL Harman StartedAt: 2025-10-13 15:14:01 -0400 (Mon, 13 Oct 2025) EndedAt: 2025-10-13 15:14:11 -0400 (Mon, 13 Oct 2025) EllapsedTime: 10.9 seconds RetCode: 0 Status: OK