Package: Harman Version: 1.36.0 Command: rm -rf Harman.buildbin-libdir && mkdir Harman.buildbin-libdir && /Users/biocbuild/BBS/utils/build-universal.sh Harman_1.36.0.tar.gz /Library/Frameworks/R.framework/Resources/bin/R Harman.buildbin-libdir StartedAt: 2025-10-15 18:49:56 -0400 (Wed, 15 Oct 2025) EndedAt: 2025-10-15 18:50:09 -0400 (Wed, 15 Oct 2025) EllapsedTime: 13.7 seconds RetCode: 0 Status: OK PackageFile: Harman_1.36.0.tgz PackageFileSize: 2.171 MiB