Package: HTqPCR Version: 1.62.0 Command: /home/biocbuild/bbs-3.21-bioc/R/bin/R CMD INSTALL HTqPCR StartedAt: 2025-10-15 15:59:42 -0400 (Wed, 15 Oct 2025) EndedAt: 2025-10-15 15:59:49 -0400 (Wed, 15 Oct 2025) EllapsedTime: 7.1 seconds RetCode: 0 Status: OK