Package: HPiP Version: 1.14.0 Command: rm -rf HPiP.buildbin-libdir && mkdir HPiP.buildbin-libdir && E:\biocbuild\bbs-3.21-bioc\R\bin\R.exe CMD INSTALL --build --library=HPiP.buildbin-libdir HPiP_1.14.0.tar.gz StartedAt: 2025-08-15 09:29:55 -0400 (Fri, 15 Aug 2025) EndedAt: 2025-08-15 09:30:33 -0400 (Fri, 15 Aug 2025) EllapsedTime: 38.2 seconds RetCode: 0 Status: OK PackageFile: HPiP_1.14.0.zip PackageFileSize: 2.357 MiB