Package: HPiP Version: 1.14.0 Command: /Library/Frameworks/R.framework/Resources/bin/R CMD check --install=check:HPiP.install-out.txt --library=/Library/Frameworks/R.framework/Resources/library --no-vignettes --timings HPiP_1.14.0.tar.gz StartedAt: 2025-09-09 04:55:00 -0400 (Tue, 09 Sep 2025) EndedAt: 2025-09-09 05:03:56 -0400 (Tue, 09 Sep 2025) EllapsedTime: 536.4 seconds RetCode: 0 Status: OK CheckDir: HPiP.Rcheck Warnings: 0