Package: HPiP Version: 1.14.0 Command: /Library/Frameworks/R.framework/Resources/bin/R CMD build --keep-empty-dirs --no-resave-data HPiP StartedAt: 2025-10-13 19:48:12 -0400 (Mon, 13 Oct 2025) EndedAt: 2025-10-13 20:05:01 -0400 (Mon, 13 Oct 2025) EllapsedTime: 1008.4 seconds RetCode: 1 Status: ERROR PackageFile: None PackageFileSize: NA