Package: HPiP Version: 1.14.0 Command: /home/biocbuild/R/R/bin/R CMD INSTALL HPiP StartedAt: 2025-10-13 20:20:58 -0000 (Mon, 13 Oct 2025) EndedAt: 2025-10-13 20:21:18 -0000 (Mon, 13 Oct 2025) EllapsedTime: 19.5 seconds RetCode: 0 Status: OK