Package: HPiP Version: 1.14.0 Command: /home/biocbuild/R/R/bin/R CMD build --keep-empty-dirs --no-resave-data HPiP StartedAt: 2025-10-14 01:42:25 -0000 (Tue, 14 Oct 2025) EndedAt: 2025-10-14 01:53:00 -0000 (Tue, 14 Oct 2025) EllapsedTime: 635.3 seconds RetCode: 1 Status: ERROR PackageFile: None PackageFileSize: NA