Package: HPAanalyze Version: 1.26.1 Command: /Library/Frameworks/R.framework/Resources/bin/R CMD check --install=check:HPAanalyze.install-out.txt --library=/Library/Frameworks/R.framework/Resources/library --no-vignettes --timings HPAanalyze_1.26.1.tar.gz StartedAt: 2025-10-15 00:36:12 -0400 (Wed, 15 Oct 2025) EndedAt: 2025-10-15 00:37:58 -0400 (Wed, 15 Oct 2025) EllapsedTime: 105.8 seconds RetCode: 0 Status: OK CheckDir: HPAanalyze.Rcheck Warnings: 0