Package: HMMcopy Version: 1.50.0 Command: /home/biocbuild/bbs-3.21-bioc/R/bin/R CMD INSTALL HMMcopy StartedAt: 2025-10-15 15:01:59 -0400 (Wed, 15 Oct 2025) EndedAt: 2025-10-15 15:02:03 -0400 (Wed, 15 Oct 2025) EllapsedTime: 4.1 seconds RetCode: 0 Status: OK