Package: HMMcopy Version: 1.50.0 Command: /home/biocbuild/bbs-3.21-bioc/R/bin/R CMD check --install=check:HMMcopy.install-out.txt --library=/home/biocbuild/bbs-3.21-bioc/R/site-library --timings HMMcopy_1.50.0.tar.gz StartedAt: 2025-10-16 00:08:11 -0400 (Thu, 16 Oct 2025) EndedAt: 2025-10-16 00:08:47 -0400 (Thu, 16 Oct 2025) EllapsedTime: 36.1 seconds RetCode: 0 Status: WARNINGS CheckDir: HMMcopy.Rcheck Warnings: 1