Package: HMMcopy Version: 1.50.0 Command: /Library/Frameworks/R.framework/Resources/bin/R CMD INSTALL HMMcopy StartedAt: 2025-10-13 15:06:11 -0400 (Mon, 13 Oct 2025) EndedAt: 2025-10-13 15:06:22 -0400 (Mon, 13 Oct 2025) EllapsedTime: 10.6 seconds RetCode: 0 Status: OK