Package: HIREewas Version: 1.26.0 Command: chmod a+r HIREewas -R && E:\biocbuild\bbs-3.21-bioc\R\bin\R.exe CMD build --keep-empty-dirs --no-resave-data HIREewas StartedAt: 2025-08-14 19:44:47 -0400 (Thu, 14 Aug 2025) EndedAt: 2025-08-14 19:45:53 -0400 (Thu, 14 Aug 2025) EllapsedTime: 66.1 seconds RetCode: 0 Status: OK PackageFile: HIREewas_1.26.0.tar.gz PackageFileSize: 266.7 KiB