Package: HIREewas Version: 1.26.0 Command: rm -rf HIREewas.buildbin-libdir && mkdir HIREewas.buildbin-libdir && E:\biocbuild\bbs-3.21-bioc\R\bin\R.exe CMD INSTALL --build --library=HIREewas.buildbin-libdir HIREewas_1.26.0.tar.gz StartedAt: 2025-08-15 09:29:34 -0400 (Fri, 15 Aug 2025) EndedAt: 2025-08-15 09:29:42 -0400 (Fri, 15 Aug 2025) EllapsedTime: 7.2 seconds RetCode: 0 Status: OK PackageFile: HIREewas_1.26.0.zip PackageFileSize: 292.2 KiB