Package: HIREewas Version: 1.26.0 Command: /Library/Frameworks/R.framework/Resources/bin/R CMD INSTALL HIREewas StartedAt: 2025-10-13 15:08:16 -0400 (Mon, 13 Oct 2025) EndedAt: 2025-10-13 15:08:42 -0400 (Mon, 13 Oct 2025) EllapsedTime: 26.2 seconds RetCode: 0 Status: OK