Package: HIREewas Version: 1.26.0 Command: /Library/Frameworks/R.framework/Resources/bin/R CMD check --install=check:HIREewas.install-out.txt --library=/Library/Frameworks/R.framework/Resources/library --no-vignettes --timings HIREewas_1.26.0.tar.gz StartedAt: 2025-04-21 21:16:34 -0400 (Mon, 21 Apr 2025) EndedAt: 2025-04-21 21:18:07 -0400 (Mon, 21 Apr 2025) EllapsedTime: 92.7 seconds RetCode: 0 Status: OK CheckDir: HIREewas.Rcheck Warnings: 0