Package: HIREewas Version: 1.26.0 Command: rm -rf HIREewas.buildbin-libdir && mkdir HIREewas.buildbin-libdir && /Users/biocbuild/BBS/utils/build-universal.sh HIREewas_1.26.0.tar.gz /Library/Frameworks/R.framework/Resources/bin/R HIREewas.buildbin-libdir StartedAt: 2025-04-22 00:50:00 -0400 (Tue, 22 Apr 2025) EndedAt: 2025-04-22 00:50:08 -0400 (Tue, 22 Apr 2025) EllapsedTime: 8.1 seconds RetCode: 0 Status: OK PackageFile: HIREewas_1.26.0.tgz PackageFileSize: 281.5 KiB