Package: HIREewas Version: 1.26.0 Command: /Library/Frameworks/R.framework/Resources/bin/R CMD check --install=check:HIREewas.install-out.txt --library=/Library/Frameworks/R.framework/Resources/library --no-vignettes --timings HIREewas_1.26.0.tar.gz StartedAt: 2025-10-15 00:33:16 -0400 (Wed, 15 Oct 2025) EndedAt: 2025-10-15 00:34:28 -0400 (Wed, 15 Oct 2025) EllapsedTime: 71.4 seconds RetCode: 0 Status: OK CheckDir: HIREewas.Rcheck Warnings: 0