Package: HIREewas Version: 1.26.0 Command: /Library/Frameworks/R.framework/Resources/bin/R CMD build --keep-empty-dirs --no-resave-data HIREewas StartedAt: 2025-10-14 02:22:43 -0400 (Tue, 14 Oct 2025) EndedAt: 2025-10-14 02:23:40 -0400 (Tue, 14 Oct 2025) EllapsedTime: 57.7 seconds RetCode: 0 Status: OK PackageFile: HIREewas_1.26.0.tar.gz PackageFileSize: 265.9 KiB