Package: HGC Version: 1.16.0 Command: /home/biocbuild/bbs-3.21-bioc/R/bin/R CMD INSTALL HGC StartedAt: 2025-10-15 15:09:27 -0400 (Wed, 15 Oct 2025) EndedAt: 2025-10-15 15:10:11 -0400 (Wed, 15 Oct 2025) EllapsedTime: 43.9 seconds RetCode: 0 Status: OK