Package: HGC Version: 1.16.0 Command: /home/biocbuild/bbs-3.21-bioc/R/bin/R CMD check --install=check:HGC.install-out.txt --library=/home/biocbuild/bbs-3.21-bioc/R/site-library --timings HGC_1.16.0.tar.gz StartedAt: 2025-10-16 00:01:38 -0400 (Thu, 16 Oct 2025) EndedAt: 2025-10-16 00:04:47 -0400 (Thu, 16 Oct 2025) EllapsedTime: 189.2 seconds RetCode: 0 Status: WARNINGS CheckDir: HGC.Rcheck Warnings: 1