Package: HGC Version: 1.16.0 Command: /home/biocbuild/bbs-3.21-bioc/R/bin/R CMD build --keep-empty-dirs --no-resave-data HGC StartedAt: 2025-10-15 17:57:04 -0400 (Wed, 15 Oct 2025) EndedAt: 2025-10-15 17:57:49 -0400 (Wed, 15 Oct 2025) EllapsedTime: 45.0 seconds RetCode: 0 Status: OK PackageFile: HGC_1.16.0.tar.gz PackageFileSize: 529 KiB