Package: HGC Version: 1.16.0 Command: /home/biocbuild/R/R/bin/R CMD INSTALL HGC StartedAt: 2025-10-13 20:21:15 -0000 (Mon, 13 Oct 2025) EndedAt: 2025-10-13 20:22:22 -0000 (Mon, 13 Oct 2025) EllapsedTime: 67.1 seconds RetCode: 0 Status: OK