Package: HEM Version: 1.80.0 Command: /Library/Frameworks/R.framework/Resources/bin/R CMD INSTALL HEM StartedAt: 2025-10-13 15:35:32 -0400 (Mon, 13 Oct 2025) EndedAt: 2025-10-13 15:35:33 -0400 (Mon, 13 Oct 2025) EllapsedTime: 1.7 seconds RetCode: 1 Status: ERROR